{"text_format":"1","workbook":"xlsx","n_sheets":2,"sheets":["撮影予約一覧","顧客情報"],"not_rendered":{"charts":0,"images":0,"macros":1,"external_links":2,"defined_names":9,"comments":0,"pivot_tables":0},"unopened":[],"bounds":{"document_bytes":16777216,"sheet_cells":100000,"rows_first":2000,"rows_last":500,"rows_between":2000,"halvings":0,"cell_chars":16384,"cell_head_chars":4096},"cells_cut":0,"cells_raw":0,"read":"whole","date_system":"1900"}

{"sheet":"撮影予約一覧","index":0,"n_rows":25,"n_cols":7,"rows_kept":25,"cut":false,"hidden":false,"merged":[[21,6,21,11],[22,6,22,11],[23,6,23,11],[24,6,24,11],[15,6,15,11],[16,6,16,11],[17,6,17,11],[18,6,18,11],[19,6,19,11],[20,6,20,11],[14,6,14,11],[3,6,3,11],[4,6,4,11],[5,6,5,11],[6,6,6,11],[7,6,7,11],[8,6,8,11],[9,6,9,11],[10,6,10,11],[11,6,11,11],[12,6,12,11],[13,6,13,11]]}
[]
[]
[]
[null,"ユーザーNo","保護者様","児童名","担当","デザイン","備考"]
[null,null,{"$f":"IF(B5=\"\",\"\",VLOOKUP(B5,顧客情報!$B$6:$F$26,2,0))","v":""},{"$f":"IF(C5=\"\",\"\",VLOOKUP(B5,顧客情報!$B$6:$F$26,3,0))","v":""},{"$f":"IF(B5=\"\",\"\",\"田中\")","v":""},{"$f":"IF(C5=\"\",\"\",VLOOKUP(B5,顧客情報!$B$6:$F$26,5,0))","v":""}]
[null,null,{"$f":"IF(B6=\"\",\"\",VLOOKUP(B6,顧客情報!$B$6:$F$26,2,0))","v":""},{"$f":"IF(C6=\"\",\"\",VLOOKUP(B6,顧客情報!$B$6:$F$26,3,0))","v":""},{"$f":"IF(B6=\"\",\"\",\"太田\")","v":""},{"$f":"IF(C6=\"\",\"\",VLOOKUP(B6,顧客情報!$B$6:$F$26,5,0))","v":""}]
[null,null,{"$f":"IF(B7=\"\",\"\",VLOOKUP(B7,顧客情報!$B$6:$F$26,2,0))","v":""},{"$f":"IF(C7=\"\",\"\",VLOOKUP(B7,顧客情報!$B$6:$F$26,3,0))","v":""},{"$f":"IF(B7=\"\",\"\",\"田中\")","v":""},{"$f":"IF(C7=\"\",\"\",VLOOKUP(B7,顧客情報!$B$6:$F$26,5,0))","v":""}]
[null,null,{"$f":"IF(B8=\"\",\"\",VLOOKUP(B8,顧客情報!$B$6:$F$26,2,0))","v":""},{"$f":"IF(C8=\"\",\"\",VLOOKUP(B8,顧客情報!$B$6:$F$26,3,0))","v":""},"",{"$f":"IF(C8=\"\",\"\",VLOOKUP(B8,顧客情報!$B$6:$F$26,5,0))","v":""}]
[null,null,{"$f":"IF(B9=\"\",\"\",VLOOKUP(B9,顧客情報!$B$6:$F$26,2,0))","v":""},{"$f":"IF(C9=\"\",\"\",VLOOKUP(B9,顧客情報!$B$6:$F$26,3,0))","v":""},{"$f":"IF(B9=\"\",\"\",\"太田\")","v":""},{"$f":"IF(C9=\"\",\"\",VLOOKUP(B9,顧客情報!$B$6:$F$26,5,0))","v":""}]
[null,null,{"$f":"IF(B10=\"\",\"\",VLOOKUP(B10,顧客情報!$B$6:$F$26,2,0))","v":""},{"$f":"IF(C10=\"\",\"\",VLOOKUP(B10,顧客情報!$B$6:$F$26,3,0))","v":""},"",{"$f":"IF(C10=\"\",\"\",VLOOKUP(B10,顧客情報!$B$6:$F$26,5,0))","v":""}]
[null,null,{"$f":"IF(B11=\"\",\"\",VLOOKUP(B11,顧客情報!$B$6:$F$26,2,0))","v":""},{"$f":"IF(C11=\"\",\"\",VLOOKUP(B11,顧客情報!$B$6:$F$26,3,0))","v":""},{"$f":"IF(B11=\"\",\"\",\"田中\")","v":""},{"$f":"IF(C11=\"\",\"\",VLOOKUP(B11,顧客情報!$B$6:$F$26,5,0))","v":""}]
[null,null,{"$f":"IF(B12=\"\",\"\",VLOOKUP(B12,顧客情報!$B$6:$F$26,2,0))","v":""},{"$f":"IF(C12=\"\",\"\",VLOOKUP(B12,顧客情報!$B$6:$F$26,3,0))","v":""},{"$f":"IF(B12=\"\",\"\",\"太田\")","v":""},{"$f":"IF(C12=\"\",\"\",VLOOKUP(B12,顧客情報!$B$6:$F$26,5,0))","v":""}]
[null,null,{"$f":"IF(B13=\"\",\"\",VLOOKUP(B13,顧客情報!$B$6:$F$26,2,0))","v":""},{"$f":"IF(C13=\"\",\"\",VLOOKUP(B13,顧客情報!$B$6:$F$26,3,0))","v":""},{"$f":"IF(B13=\"\",\"\",\"田中\")","v":""},{"$f":"IF(C13=\"\",\"\",VLOOKUP(B13,顧客情報!$B$6:$F$26,5,0))","v":""}]
[null,null,{"$f":"IF(B14=\"\",\"\",VLOOKUP(B14,顧客情報!$B$6:$F$26,2,0))","v":""},{"$f":"IF(C14=\"\",\"\",VLOOKUP(B14,顧客情報!$B$6:$F$26,3,0))","v":""},"",{"$f":"IF(C14=\"\",\"\",VLOOKUP(B14,顧客情報!$B$6:$F$26,5,0))","v":""}]
[null,null,{"$f":"IF(B15=\"\",\"\",VLOOKUP(B15,顧客情報!$B$6:$F$26,2,0))","v":""},{"$f":"IF(C15=\"\",\"\",VLOOKUP(B15,顧客情報!$B$6:$F$26,3,0))","v":""},{"$f":"IF(B15=\"\",\"\",\"太田\")","v":""},{"$f":"IF(C15=\"\",\"\",VLOOKUP(B15,顧客情報!$B$6:$F$26,5,0))","v":""}]
[null,null,{"$f":"IF(B16=\"\",\"\",VLOOKUP(B16,顧客情報!$B$6:$F$26,2,0))","v":""},{"$f":"IF(C16=\"\",\"\",VLOOKUP(B16,顧客情報!$B$6:$F$26,3,0))","v":""},{"$f":"IF(B16=\"\",\"\",\"田中\")","v":""},{"$f":"IF(C16=\"\",\"\",VLOOKUP(B16,顧客情報!$B$6:$F$26,5,0))","v":""}]
[null,null,{"$f":"IF(B17=\"\",\"\",VLOOKUP(B17,顧客情報!$B$6:$F$26,2,0))","v":""},{"$f":"IF(C17=\"\",\"\",VLOOKUP(B17,顧客情報!$B$6:$F$26,3,0))","v":""},{"$f":"IF(B17=\"\",\"\",\"田中\")","v":""},{"$f":"IF(C17=\"\",\"\",VLOOKUP(B17,顧客情報!$B$6:$F$26,5,0))","v":""}]
[null,null,{"$f":"IF(B18=\"\",\"\",VLOOKUP(B18,顧客情報!$B$6:$F$26,2,0))","v":""},{"$f":"IF(C18=\"\",\"\",VLOOKUP(B18,顧客情報!$B$6:$F$26,3,0))","v":""},{"$f":"IF(B18=\"\",\"\",\"太田\")","v":""},{"$f":"IF(C18=\"\",\"\",VLOOKUP(B18,顧客情報!$B$6:$F$26,5,0))","v":""}]
[null,null,{"$f":"IF(B19=\"\",\"\",VLOOKUP(B19,顧客情報!$B$6:$F$26,2,0))","v":""},{"$f":"IF(C19=\"\",\"\",VLOOKUP(B19,顧客情報!$B$6:$F$26,3,0))","v":""},{"$f":"IF(B19=\"\",\"\",\"太田\")","v":""},{"$f":"IF(C19=\"\",\"\",VLOOKUP(B19,顧客情報!$B$6:$F$26,5,0))","v":""}]
[null,null,{"$f":"IF(B20=\"\",\"\",VLOOKUP(B20,顧客情報!$B$6:$F$26,2,0))","v":""},{"$f":"IF(C20=\"\",\"\",VLOOKUP(B20,顧客情報!$B$6:$F$26,3,0))","v":""},{"$f":"IF(B20=\"\",\"\",\"田中\")","v":""},{"$f":"IF(C20=\"\",\"\",VLOOKUP(B20,顧客情報!$B$6:$F$26,5,0))","v":""}]
[null,null,{"$f":"IF(B21=\"\",\"\",VLOOKUP(B21,顧客情報!$B$6:$F$26,2,0))","v":""},{"$f":"IF(C21=\"\",\"\",VLOOKUP(B21,顧客情報!$B$6:$F$26,3,0))","v":""},{"$f":"IF(B21=\"\",\"\",\"太田\")","v":""},{"$f":"IF(C21=\"\",\"\",VLOOKUP(B21,顧客情報!$B$6:$F$26,5,0))","v":""}]
[null,null,{"$f":"IF(B22=\"\",\"\",VLOOKUP(B22,顧客情報!$B$6:$F$26,2,0))","v":""},{"$f":"IF(C22=\"\",\"\",VLOOKUP(B22,顧客情報!$B$6:$F$26,3,0))","v":""},{"$f":"IF(B22=\"\",\"\",\"田中\")","v":""},{"$f":"IF(C22=\"\",\"\",VLOOKUP(B22,顧客情報!$B$6:$F$26,5,0))","v":""}]
[null,null,{"$f":"IF(B23=\"\",\"\",VLOOKUP(B23,顧客情報!$B$6:$F$26,2,0))","v":""},{"$f":"IF(C23=\"\",\"\",VLOOKUP(B23,顧客情報!$B$6:$F$26,3,0))","v":""},{"$f":"IF(B23=\"\",\"\",\"田中\")","v":""},{"$f":"IF(C23=\"\",\"\",VLOOKUP(B23,顧客情報!$B$6:$F$26,5,0))","v":""}]
[null,null,{"$f":"IF(B24=\"\",\"\",VLOOKUP(B24,顧客情報!$B$6:$F$26,2,0))","v":""},{"$f":"IF(C24=\"\",\"\",VLOOKUP(B24,顧客情報!$B$6:$F$26,3,0))","v":""},{"$f":"IF(B24=\"\",\"\",\"太田\")","v":""},{"$f":"IF(C24=\"\",\"\",VLOOKUP(B24,顧客情報!$B$6:$F$26,5,0))","v":""}]
[null,null,{"$f":"IF(B25=\"\",\"\",VLOOKUP(B25,顧客情報!$B$6:$F$26,2,0))","v":""},{"$f":"IF(C25=\"\",\"\",VLOOKUP(B25,顧客情報!$B$6:$F$26,3,0))","v":""},{"$f":"IF(B25=\"\",\"\",\"田中\")","v":""},{"$f":"IF(C25=\"\",\"\",VLOOKUP(B25,顧客情報!$B$6:$F$26,5,0))","v":""}]

{"sheet":"顧客情報","index":1,"n_rows":26,"n_cols":6,"rows_kept":26,"cut":false,"hidden":false,"merged":[]}
[]
[]
[]
[]
[null,"ユーザーNo","保護者名","児童名","前回予約日","アルバム\nデザイン"]
[null,10001,"村田　理子","ちひろ","2014-10-12","通常"]
[null,10002,"村田　健司","ふうた","2014-10-14","プレゼントA"]
[null,10003,"多田　英子","さきと","2014-10-04","プレゼントB"]
[null,10004,"増田　たか子","たかと","2014-10-08","音楽"]
[null,10005,"大島　孝雄","ゆうた","2014-10-07","音楽"]
[null,10006,"大津　章","ひなた","2014-10-07","プレゼントA"]
[null,10007,"松岡　利美","かえで","2014-10-09","プレゼントB"]
[null,10008,"右田　孝志","まい","2014-10-14","通常"]
[null,10009,"町田　強志","さとし","2014-10-08","プレゼントA"]
[null,10010,"滝田　政春","かれん","2014-10-03","プレゼントB"]
[null,10011,"田中　太郎","ななこ","2014-10-11","音楽"]
[null,10012,"大石　隆司","いちと","2014-10-08","音楽"]
[null,10013,"稲垣　和代","りょう","2014-10-07","プレゼントA"]
[null,10014,"佐松　信次","こなつ","2014-10-13","プレゼントB"]
[null,10015,"垣内　涼子","ひとみ","2014-10-12","通常"]
[null,10016,"中里　益男","かなで","2014-10-06","プレゼントA"]
[null,10017,"長瀬　孝道","かいと","2014-10-14","プレゼントB"]
[null,10018,"高山　早苗","あきと","2014-10-08","音楽"]
[null,10019,"松山　達雄","しょう","2014-10-05","音楽"]
[null,10020,"古川　雅士","まな","2014-10-10","プレゼントA"]
[null,10021,"組坂　善夫","のぞみ","2014-10-12","プレゼントB"]